BEGIN:VCALENDAR
VERSION:2.0
PRODID:-//Leatherwood POA - ECPv6.15.17//NONSGML v1.0//EN
CALSCALE:GREGORIAN
METHOD:PUBLISH
X-WR-CALNAME:Leatherwood POA
X-ORIGINAL-URL:https://leatherwoodpoa.com
X-WR-CALDESC:Events for Leatherwood POA
REFRESH-INTERVAL;VALUE=DURATION:PT1H
X-Robots-Tag:noindex
X-PUBLISHED-TTL:PT1H
BEGIN:VTIMEZONE
TZID:America/New_York
BEGIN:DAYLIGHT
TZOFFSETFROM:-0500
TZOFFSETTO:-0400
TZNAME:EDT
DTSTART:20230312T070000
END:DAYLIGHT
BEGIN:STANDARD
TZOFFSETFROM:-0400
TZOFFSETTO:-0500
TZNAME:EST
DTSTART:20231105T060000
END:STANDARD
BEGIN:DAYLIGHT
TZOFFSETFROM:-0500
TZOFFSETTO:-0400
TZNAME:EDT
DTSTART:20240310T070000
END:DAYLIGHT
BEGIN:STANDARD
TZOFFSETFROM:-0400
TZOFFSETTO:-0500
TZNAME:EST
DTSTART:20241103T060000
END:STANDARD
BEGIN:DAYLIGHT
TZOFFSETFROM:-0500
TZOFFSETTO:-0400
TZNAME:EDT
DTSTART:20250309T070000
END:DAYLIGHT
BEGIN:STANDARD
TZOFFSETFROM:-0400
TZOFFSETTO:-0500
TZNAME:EST
DTSTART:20251102T060000
END:STANDARD
END:VTIMEZONE
BEGIN:VEVENT
DTSTART;TZID=America/New_York:20241123T080000
DTEND;TZID=America/New_York:20241123T120000
DTSTAMP:20260419T172146
CREATED:20240809T164901Z
LAST-MODIFIED:20240809T164901Z
UID:9939-1732348800-1732363200@leatherwoodpoa.com
SUMMARY:Leatherwood Pool Pavilion Reserved
DESCRIPTION:
URL:https://leatherwoodpoa.com/lwpoaevent/leatherwood-pool-pavilion-reserved-13/
LOCATION:Leatherwood POA Pavilion\, 484 Meadow Road\, Ferguson\, NC\, 28624\, United States
CATEGORIES:PavilionRental
ORGANIZER;CN="Facilities Committee":MAILTO:facilities@leatherwoodpoa.com
END:VEVENT
BEGIN:VEVENT
DTSTART;TZID=America/New_York:20241123T093000
DTEND;TZID=America/New_York:20241123T113000
DTSTAMP:20260419T172146
CREATED:20240809T155109Z
LAST-MODIFIED:20240809T155109Z
UID:9920-1732354200-1732361400@leatherwoodpoa.com
SUMMARY:POA Board Meeting
DESCRIPTION:Monthly Board Meeting
URL:https://leatherwoodpoa.com/lwpoaevent/poa-board-meeting-19/
LOCATION:Leatherwood POA Pavilion\, 484 Meadow Road\, Ferguson\, NC\, 28624\, United States
CATEGORIES:boardmeeting
ATTACH;FMTTYPE=image/jpeg:https://leatherwoodpoa.com/wp-content/uploads/2023/01/pavilion3-Header-scaled.jpg
END:VEVENT
END:VCALENDAR